BEGIN:VCALENDAR
VERSION:2.0
PRODID:-//Southeastern Indiana Beekeepers Association - ECPv6.15.17.1//NONSGML v1.0//EN
CALSCALE:GREGORIAN
METHOD:PUBLISH
X-WR-CALNAME:Southeastern Indiana Beekeepers Association
X-ORIGINAL-URL:https://www.indianahoney.org
X-WR-CALDESC:Events for Southeastern Indiana Beekeepers Association
REFRESH-INTERVAL;VALUE=DURATION:PT1H
X-Robots-Tag:noindex
X-PUBLISHED-TTL:PT1H
BEGIN:VTIMEZONE
TZID:America/New_York
BEGIN:DAYLIGHT
TZOFFSETFROM:-0500
TZOFFSETTO:-0400
TZNAME:EDT
DTSTART:20220313T070000
END:DAYLIGHT
BEGIN:STANDARD
TZOFFSETFROM:-0400
TZOFFSETTO:-0500
TZNAME:EST
DTSTART:20221106T060000
END:STANDARD
BEGIN:DAYLIGHT
TZOFFSETFROM:-0500
TZOFFSETTO:-0400
TZNAME:EDT
DTSTART:20230312T070000
END:DAYLIGHT
BEGIN:STANDARD
TZOFFSETFROM:-0400
TZOFFSETTO:-0500
TZNAME:EST
DTSTART:20231105T060000
END:STANDARD
BEGIN:DAYLIGHT
TZOFFSETFROM:-0500
TZOFFSETTO:-0400
TZNAME:EDT
DTSTART:20240310T070000
END:DAYLIGHT
BEGIN:STANDARD
TZOFFSETFROM:-0400
TZOFFSETTO:-0500
TZNAME:EST
DTSTART:20241103T060000
END:STANDARD
END:VTIMEZONE
BEGIN:VEVENT
DTSTART;VALUE=DATE:20230617
DTEND;VALUE=DATE:20230618
DTSTAMP:20260422T062954
CREATED:20230612T031752Z
LAST-MODIFIED:20230612T031833Z
UID:10000367-1686960000-1687046399@www.indianahoney.org
SUMMARY:Purdue Field Day
DESCRIPTION:Purdue Field Day will take place on Saturday\, June 17th. Each pre-registration comes with a lunch meal by Great Harvest Bread so be sure to pre-register and select your lunch choice.  We are accepting walk-ins this year; however\, depending on the number of walk-ins\, we may not be able to provide you with a lunch.  The price will still be the same so pre-registration is best. \nPurdue will be providing the hives for in-the-hive sessions.  If you are around the hives\, a veil is required.  We have lots of other sessions and topics\, some are inside as well. \nIt is being held at the Beck Agricultural Center located at 4550 US-52\, West Lafayette\, IN 47906.  The advantage is that we'll have an indoor area for eating and if the weather turns bad. Cost will be $30 for members and $40 for non-members\, $15 for children 15 and under.  The registration is in your latest newsletter or you can sign up online through our website.   Pre-registration closes on June 12th at midnight. \nWe have a great lineup of some old topics and some new including sessions on: \nCooking with HoneyDrone ViabilityFinding your queen and what to look forGenetic Testing for Best StocksHive inspectionHoney extractionImportance of Local GeneticsMite monitoring & treatment optionsMaking nucsQueen Rearing BasicsState Inspection Direction \nIf you'd like to download the paper form and mail it in\, click here. For online registration\, click here. There is a convenience fee for online registrations.
URL:https://www.indianahoney.org/event/purdue-field-day-3/
LOCATION:Beck Agricultural Center\, 4550 US 52\, West Lafayette\, IN\, 47906\, United States
ATTACH;FMTTYPE=image/jpeg:https://www.indianahoney.org/wp-content/uploads/2019/03/Beekeepers-of-indiana.jpg
END:VEVENT
END:VCALENDAR