BEGIN:VCALENDAR
VERSION:2.0
PRODID:-//Southeastern Indiana Beekeepers Association - ECPv6.15.17.1//NONSGML v1.0//EN
CALSCALE:GREGORIAN
METHOD:PUBLISH
X-WR-CALNAME:Southeastern Indiana Beekeepers Association
X-ORIGINAL-URL:https://www.indianahoney.org
X-WR-CALDESC:Events for Southeastern Indiana Beekeepers Association
REFRESH-INTERVAL;VALUE=DURATION:PT1H
X-Robots-Tag:noindex
X-PUBLISHED-TTL:PT1H
BEGIN:VTIMEZONE
TZID:America/New_York
BEGIN:DAYLIGHT
TZOFFSETFROM:-0500
TZOFFSETTO:-0400
TZNAME:EDT
DTSTART:20250309T070000
END:DAYLIGHT
BEGIN:STANDARD
TZOFFSETFROM:-0400
TZOFFSETTO:-0500
TZNAME:EST
DTSTART:20251102T060000
END:STANDARD
BEGIN:DAYLIGHT
TZOFFSETFROM:-0500
TZOFFSETTO:-0400
TZNAME:EDT
DTSTART:20260308T070000
END:DAYLIGHT
BEGIN:STANDARD
TZOFFSETFROM:-0400
TZOFFSETTO:-0500
TZNAME:EST
DTSTART:20261101T060000
END:STANDARD
BEGIN:DAYLIGHT
TZOFFSETFROM:-0500
TZOFFSETTO:-0400
TZNAME:EDT
DTSTART:20270314T070000
END:DAYLIGHT
BEGIN:STANDARD
TZOFFSETFROM:-0400
TZOFFSETTO:-0500
TZNAME:EST
DTSTART:20271107T060000
END:STANDARD
END:VTIMEZONE
BEGIN:VEVENT
DTSTART;TZID=America/New_York:20260418T090000
DTEND;TZID=America/New_York:20260418T140000
DTSTAMP:20260424T054334
CREATED:20260311T223327Z
LAST-MODIFIED:20260311T223444Z
UID:10000437-1776502800-1776520800@www.indianahoney.org
SUMMARY:Honey Bee Education Day
DESCRIPTION:For Extension Agents\, Bee Club Leaders\, Pest Management Professionals Open to All Interested Community Members Too! \nUsing the Train-the-Trainer model\, the State Apiarist will provide educational training on current beekeeping trends in Kentucky. Information on state survey data\, managemnt of pesticide kills\, and management of invasive species threats will be covered. Presentation Materials and Specimens will be available to Agents (and club leaders as available) \nWith KDA State Apiarist\nDr. Amanda Skidmore \nTime\n9 am - 2:00pm \nLunch Provided \n3/2 Laurel County Extension Office\n3/12 Carter County Extension Office\n3/24 Marshall County Extension Office\n3/25 Henderson County Extension Office\n3/27 Grant County Extension Office\n3/28 Allen County Extension Office Saturday\n4/11 Whitley County Extension Office Saturday\n4/16 Fayette County Extension Office\n4/18 Grayson County Extension Office Saturday \nPre-Register using the website link below at the location you prefer. \nDownload PDF
URL:https://www.indianahoney.org/event/honey-bee-education-day/2026-04-18/
ATTACH;FMTTYPE=image/jpeg:https://www.indianahoney.org/wp-content/uploads/2026/03/apiarist.jpg
END:VEVENT
BEGIN:VEVENT
DTSTART;TZID=America/New_York:20260418T090000
DTEND;TZID=America/New_York:20260418T140000
DTSTAMP:20260424T054334
CREATED:20260410T145009Z
LAST-MODIFIED:20260410T152639Z
UID:10000438-1776502800-1776520800@www.indianahoney.org
SUMMARY:Field Day at Jim Orem’s Bee Barn - Splits!
DESCRIPTION:🐝 Join the Southeastern Indiana Beekeepers Association for a hands-on day in the apiary at Jim Orem’s Bee Barn! Whether you’re a seasoned beekeeper or just curious about getting started\, this is a great opportunity to learn\, connect\, and get your hands in the hives. \n📅 Date & Time\nSaturday\, April 18 (following the club meeting)Start time: 9:00 AM \n\n🔍 What to Expect\n\n9:00 AM – Hive Splitting DemonstrationLearn how to split hives with experienced beekeepers Jackie Doan and Jared Spokowsky\n12:00 PM – Pitch-In LunchWe’ll break for a casual lunch. No cost to attend—just bring a dish to share if you can!\nAfternoon – Hands-On Hive WorkHead back into the apiary for practical experience. We’ll pair newer beekeepers with experienced mentors for a valuable learning experience.\n\n\n🌦 Weather Plan\nIf conditions aren’t ideal\, we’ll move the hive-splitting demo indoors. Lunch will happen rain or shine\, so come prepared either way! \n\n🧑‍🌾 Who Should Attend?\n\nSIBA members of all experience levels\nAnyone curious about beekeeping—the public is welcome!\n\nEven though public turnout is usually light\, we want anyone interested to feel welcome to join us and see what beekeeping is all about. \n\n🐝 What to Bring\n\nBee suit (if you have one)\nWe’ll have a limited number of kids’ suits available\nA dish to share for lunch (optional\, but appreciated)\n\n\n📍 Location\nThe Ark Farm and Kennels8340 E State Road 48Milan\, Indiana \n\n📞 Questions?\nContact Jim at 812-571-0118 \n\nThis is one of the best opportunities of the year to get real\, hands-on beekeeping experience in a relaxed\, friendly environment. We hope to see you there! 🐝
URL:https://www.indianahoney.org/event/siba-field-day-at-jim-orems-bee-barn/
LOCATION:Jim Orem’s Bee Barn\, 8340 E. SR 48\, Milan\, IN\, 47031
ATTACH;FMTTYPE=image/jpeg:https://www.indianahoney.org/wp-content/uploads/2026/03/burkart.jpg
ORGANIZER;CN="Jim Orem":MAILTO:jorem@icloud.com
END:VEVENT
END:VCALENDAR