BEGIN:VCALENDAR
VERSION:2.0
PRODID:-//Southeastern Indiana Beekeepers Association - ECPv6.15.17.1//NONSGML v1.0//EN
CALSCALE:GREGORIAN
METHOD:PUBLISH
X-ORIGINAL-URL:https://www.indianahoney.org
X-WR-CALDESC:Events for Southeastern Indiana Beekeepers Association
REFRESH-INTERVAL;VALUE=DURATION:PT1H
X-Robots-Tag:noindex
X-PUBLISHED-TTL:PT1H
BEGIN:VTIMEZONE
TZID:America/New_York
BEGIN:DAYLIGHT
TZOFFSETFROM:-0500
TZOFFSETTO:-0400
TZNAME:EDT
DTSTART:20210314T070000
END:DAYLIGHT
BEGIN:STANDARD
TZOFFSETFROM:-0400
TZOFFSETTO:-0500
TZNAME:EST
DTSTART:20211107T060000
END:STANDARD
BEGIN:DAYLIGHT
TZOFFSETFROM:-0500
TZOFFSETTO:-0400
TZNAME:EDT
DTSTART:20220313T070000
END:DAYLIGHT
BEGIN:STANDARD
TZOFFSETFROM:-0400
TZOFFSETTO:-0500
TZNAME:EST
DTSTART:20221106T060000
END:STANDARD
BEGIN:DAYLIGHT
TZOFFSETFROM:-0500
TZOFFSETTO:-0400
TZNAME:EDT
DTSTART:20230312T070000
END:DAYLIGHT
BEGIN:STANDARD
TZOFFSETFROM:-0400
TZOFFSETTO:-0500
TZNAME:EST
DTSTART:20231105T060000
END:STANDARD
END:VTIMEZONE
BEGIN:VEVENT
DTSTART;TZID=America/New_York:20221117T183000
DTEND;TZID=America/New_York:20221117T203000
DTSTAMP:20260421T055205
CREATED:20211211T163406Z
LAST-MODIFIED:20221108T134955Z
UID:10000334-1668709800-1668717000@www.indianahoney.org
SUMMARY:SIBA Monthly Meeting - Dwight Weese
DESCRIPTION:Dwight Weese got his first beehive in 2017 but really only counts himself a semi-successful beekeeper starting 3 years ago. He resides in Mt Healthy\, OH and currently has 13 hives located in two apiaries. \nDwight will lead a discussion on 10 things not covered in beekeeping basics. Still a fairly new beekeeper\, he'll point out things he has learned that didn't come from the books\, videos\, or conferences. These points\, some humorous\, are all related to lessons learned and will hopefully spark similar learnings and further discussion from the club's experienced (or not so experienced) beekeepers. \nIf you've missed a previous newsletter\, find them all archived here. \nSIBA Meetings occur the 3rd Thursday of each month through the year with topics being added to the event ahead of each meeting. Meetings are held at 6:30pm at the Sunman American Legion unless otherwise stated ahead of time in the newsletter and website. We're also looking for volunteers to help make the club GO. Contact us to let us know you are interested in helping out! \nCheck the website or Facebook for the latest information. \n\nSIBA Facebook Page - General Announcements\, etc.\nDiscussion Group - Bee questions answered within 24 hours
URL:https://www.indianahoney.org/event/siba-monthly-meeting-and-newsletter-2022-11-17/2022-11-17/
LOCATION:Sunman American Legion\, 412 Eastern Ave.\, Sunman\, 47041\, United States
ATTACH;FMTTYPE=image/jpeg:https://www.indianahoney.org/wp-content/uploads/2021/12/IMG_0646.jpg
ORGANIZER;CN="Dave Broxterman":MAILTO:broxlikestrees@gmail.com
GEO:39.2352453;-85.0895288
X-APPLE-STRUCTURED-LOCATION;VALUE=URI;X-ADDRESS=Sunman American Legion 412 Eastern Ave. Sunman 47041 United States;X-APPLE-RADIUS=500;X-TITLE=412 Eastern Ave.:geo:-85.0895288,39.2352453
END:VEVENT
END:VCALENDAR