BEGIN:VCALENDAR
VERSION:2.0
PRODID:-//Southeastern Indiana Beekeepers Association - ECPv6.15.17.1//NONSGML v1.0//EN
CALSCALE:GREGORIAN
METHOD:PUBLISH
X-ORIGINAL-URL:https://www.indianahoney.org
X-WR-CALDESC:Events for Southeastern Indiana Beekeepers Association
REFRESH-INTERVAL;VALUE=DURATION:PT1H
X-Robots-Tag:noindex
X-PUBLISHED-TTL:PT1H
BEGIN:VTIMEZONE
TZID:America/New_York
BEGIN:DAYLIGHT
TZOFFSETFROM:-0500
TZOFFSETTO:-0400
TZNAME:EDT
DTSTART:20210314T070000
END:DAYLIGHT
BEGIN:STANDARD
TZOFFSETFROM:-0400
TZOFFSETTO:-0500
TZNAME:EST
DTSTART:20211107T060000
END:STANDARD
BEGIN:DAYLIGHT
TZOFFSETFROM:-0500
TZOFFSETTO:-0400
TZNAME:EDT
DTSTART:20220313T070000
END:DAYLIGHT
BEGIN:STANDARD
TZOFFSETFROM:-0400
TZOFFSETTO:-0500
TZNAME:EST
DTSTART:20221106T060000
END:STANDARD
BEGIN:DAYLIGHT
TZOFFSETFROM:-0500
TZOFFSETTO:-0400
TZNAME:EDT
DTSTART:20230312T070000
END:DAYLIGHT
BEGIN:STANDARD
TZOFFSETFROM:-0400
TZOFFSETTO:-0500
TZNAME:EST
DTSTART:20231105T060000
END:STANDARD
END:VTIMEZONE
BEGIN:VEVENT
DTSTART;TZID=America/New_York:20221215T183000
DTEND;TZID=America/New_York:20221215T203000
DTSTAMP:20260419T114434
CREATED:20211211T163406Z
LAST-MODIFIED:20221212T175903Z
UID:10000335-1671129000-1671136200@www.indianahoney.org
SUMMARY:SIBA Monthly Meeting - Bryan Copeland
DESCRIPTION:SIBA member Bryan Copeland has been keeping bees for 7 years. He'll lead a discussion on beekeeping hacks and share information on how he made his own bee vac\, honey/beeswax press and hive and frame makers. Have anything you have invented or made\, bring it along to share! Your questions are encouraged. \nIf you've missed a previous newsletter\, find them all archived here. \nSIBA Meetings occur the 3rd Thursday of each month through the year with topics being added to the event ahead of each meeting. Meetings are held at 6:30pm at the Sunman American Legion unless otherwise stated ahead of time in the newsletter and website. We're also looking for volunteers to help make the club GO. Contact us to let us know you are interested in helping out! \nCheck the website or Facebook for the latest information. \n\nSIBA Facebook Page - General Announcements\, etc.\nDiscussion Group - Bee questions answered within 24 hours
URL:https://www.indianahoney.org/event/siba-monthly-meeting-and-newsletter-2022-12-15/
LOCATION:Sunman American Legion\, 412 Eastern Ave.\, Sunman\, 47041\, United States
ATTACH;FMTTYPE=image/jpeg:https://www.indianahoney.org/wp-content/uploads/2021/12/bryan-copeland-rotated.jpg
ORGANIZER;CN="Dave Broxterman":MAILTO:broxlikestrees@gmail.com
GEO:39.2352453;-85.0895288
X-APPLE-STRUCTURED-LOCATION;VALUE=URI;X-ADDRESS=Sunman American Legion 412 Eastern Ave. Sunman 47041 United States;X-APPLE-RADIUS=500;X-TITLE=412 Eastern Ave.:geo:-85.0895288,39.2352453
END:VEVENT
BEGIN:VEVENT
DTSTART;TZID=America/New_York:20221216T183000
DTEND;TZID=America/New_York:20221216T210000
DTSTAMP:20260419T114434
CREATED:20221127T113037Z
LAST-MODIFIED:20221127T143546Z
UID:10000321-1671215400-1671224400@www.indianahoney.org
SUMMARY:SIBA Christmas Party at Moores Hill Senior Center
DESCRIPTION:Happy Holidays everyone! The SIBA Christmas party will be held at the Moores Hill Senior Center on Friday\, December 16th\, (the day after the meeting) 6:30pm. \nThe Christmas Party evolved from a meeting way back when in December when we were covering mead making (making wine from honey) as an off-season topic. Other mead and winemakers in the club brought some of their samples. Of course food was in order... so it grew into a jovial gathering of friends who each had unique talents and creations to share. \nBring a dish (a main dish\, appetizer\, or dessert) to share of your choice. If you are a wine or mead-maker\, bring along one of your latest to share. We'll have some small dixie cups to sample with. In the past\, we have seen\, cheese\, cured meats\, pickled and fermented foods to try. We've also seen some pretty creative desserts come from our membership at past Christmas parties. See the honeycomb cake pictures above. \nThe primary goal of the Christmas party is to celebrate and reflect on the season\, both successes and failures... and talk about them with great company and some good food and drink. While this is a family-friendly event and you're encouraged to bring your spouse or significant other\, (especially if we've never met them\,) just know that alcohol will be present and served in a responsible manner. \nHope to see you and we wish everyone happy\, safe and healthy holidays with lots of friends and family!
URL:https://www.indianahoney.org/event/siba-christmas-party-at-moores-hill-senior-center/
LOCATION:Moores Hill Senior Center\, 16610 N Broadway St.\, Moores Hill\, IN\, 47032\, United States
ATTACH;FMTTYPE=image/jpeg:https://www.indianahoney.org/wp-content/uploads/2021/11/IMG_4814.jpg
ORGANIZER;CN="Jason Morgan":MAILTO:krullion@hotmail.com
GEO:39.113237;-85.0896684
X-APPLE-STRUCTURED-LOCATION;VALUE=URI;X-ADDRESS=Moores Hill Senior Center 16610 N Broadway St. Moores Hill IN 47032 United States;X-APPLE-RADIUS=500;X-TITLE=16610 N Broadway St.:geo:-85.0896684,39.113237
END:VEVENT
END:VCALENDAR